BEGIN:VCALENDAR
VERSION:2.0
PRODID:-//Accessible Align Yoga - ECPv6.15.20//NONSGML v1.0//EN
CALSCALE:GREGORIAN
METHOD:PUBLISH
X-WR-CALNAME:Accessible Align Yoga
X-ORIGINAL-URL:https://accessiblealignyoga.com
X-WR-CALDESC:Events for Accessible Align Yoga
REFRESH-INTERVAL;VALUE=DURATION:PT1H
X-Robots-Tag:noindex
X-PUBLISHED-TTL:PT1H
BEGIN:VTIMEZONE
TZID:Europe/Moscow
BEGIN:STANDARD
TZOFFSETFROM:+0300
TZOFFSETTO:+0300
TZNAME:MSK
DTSTART:20220101T000000
END:STANDARD
END:VTIMEZONE
BEGIN:VEVENT
DTSTART;TZID=Europe/Moscow:20240805T080000
DTEND;TZID=Europe/Moscow:20240805T170000
DTSTAMP:20260423T194215
CREATED:20240805T084530Z
LAST-MODIFIED:20240805T084623Z
UID:278-1722844800-1722877200@accessiblealignyoga.com
SUMMARY:Group Classes at YallaYoga!
DESCRIPTION:I am proud to announce that I am now teaching classes at Yalla Yoga in Doha! All of my classes are slow\, stretchy and designed to have you walk out that door feeling a million times more relaxed than when you sat on the mat. Follow my Instagram @accessiblealignyoga for the current schedule. \nBooking is through the Yalla Yoga app and classes are in Asas Tower\, West Bay. Yalla! I’ll see you there!
URL:https://accessiblealignyoga.com/event/group-classes-at-yallayoga/
END:VEVENT
BEGIN:VEVENT
DTSTART;TZID=Europe/Moscow:20231106T090000
DTEND;TZID=Europe/Moscow:20231106T100000
DTSTAMP:20260423T194215
CREATED:20231031T121342Z
LAST-MODIFIED:20231031T121342Z
UID:142-1699261200-1699264800@accessiblealignyoga.com
SUMMARY:Slow & Strong Flow - Weekly
DESCRIPTION:Slow & Strong flows – all levels and capabilities welcome! Classes will be light on the wrists and full of options. \nMondays @ 9:00 am \nSaturdays @ 5:00 pm \nViva Bahriya 15 \n50QR per class or free for building residents – DM me to reserve your space!
URL:https://accessiblealignyoga.com/event/slow-strong-flow-weekly/
END:VEVENT
BEGIN:VEVENT
DTSTART;TZID=Europe/Moscow:20231104T170000
DTEND;TZID=Europe/Moscow:20231104T180000
DTSTAMP:20260423T194215
CREATED:20231031T121154Z
LAST-MODIFIED:20231031T121154Z
UID:139-1699117200-1699120800@accessiblealignyoga.com
SUMMARY:Slow & Strong Yoga Flow - Weekly
DESCRIPTION:Slow & Strong flows – all levels and capabilities welcome! Classes will be light on the wrists and full of options.  \nMondays @ 9:00 am \nSaturdays @ 5:00 pm \nViva Bahriya 15 \n50QR per class or free for building residents – DM me to reserve your space!
URL:https://accessiblealignyoga.com/event/slow-strong-yoga-flow-weekly/
END:VEVENT
END:VCALENDAR